BEGIN:VCALENDAR
VERSION:2.0
PRODID:-//Wanneroo Tennis Club - ECPv6.15.20//NONSGML v1.0//EN
CALSCALE:GREGORIAN
METHOD:PUBLISH
X-ORIGINAL-URL:http://wannerootennisclub.com.au
X-WR-CALDESC:Events for Wanneroo Tennis Club
REFRESH-INTERVAL;VALUE=DURATION:PT1H
X-Robots-Tag:noindex
X-PUBLISHED-TTL:PT1H
BEGIN:VTIMEZONE
TZID:Australia/Perth
BEGIN:STANDARD
TZOFFSETFROM:+0800
TZOFFSETTO:+0800
TZNAME:AWST
DTSTART:20170101T000000
END:STANDARD
END:VTIMEZONE
BEGIN:VEVENT
DTSTART;VALUE=DATE:20181014
DTEND;VALUE=DATE:20181015
DTSTAMP:20260425T065433
CREATED:20180917T035115Z
LAST-MODIFIED:20180918T093256Z
UID:463-1539475200-1539561599@wannerootennisclub.com.au
SUMMARY:Mixed Doubles Round Robin Tournament
DESCRIPTION:Sunday\, 14th October 2018 \nEntries must be made on the official entry form provided and received by the Secretary before 5pm\, Friday 5th October 2018 \n$30.00 PER PLAYER \n\nThis tournament is open to all members of tennis clubs affiliated with Tennis West\nThe Tournament Chairman and committee shall have the entire control and management of the Tournament\nThe Tournament Committee Referee will be the authority on any matters under dispute\nThe format will be a seeded ROUND ROBIN Doubles Tournament for mixed doubles\nPlaying surface is 8 synthetic grass courts plus 2 hard courts (if required)\nPlay will commence at 9.00 AM on Sunday 14th October 2018. Sets will be played\nCompetitors are requested to report in 30 minutes prior to commencement of\nLunch break from 12:30 PM onwards\nFormat will be dependent upon entry numbers and will be announced prior to commencement of start of play\nPresentations will be made at the conclusion of play\nIn the event of any dispute\, the Referee’s decision will be final\n\nForm can be downloaded here.
URL:http://wannerootennisclub.com.au/event/mixed-doubles-round-robin-tournament/
LOCATION:Wanneroo Tennis Club\, Elliot Rd\, Wanneroo\, 59 Elliot Rd\, Wanneroo
END:VEVENT
BEGIN:VEVENT
DTSTART;TZID=Australia/Perth:20180929T120000
DTEND;TZID=Australia/Perth:20180929T170000
DTSTAMP:20260425T065433
CREATED:20180925T054350Z
LAST-MODIFIED:20180925T054556Z
UID:732-1538222400-1538240400@wannerootennisclub.com.au
SUMMARY:West Coast Eagles vs Collingwood Finals
DESCRIPTION:Hi Members \nAs the West Coast Eagles managed to “rather convincingly” win their semi-final match against Melbourne last Saturday\, we have decided to have a little social get together this coming Saturday\, 29th September to watch the Grand Final.  For those of you who are interested in joining us we thought if everyone brought a plate “of food” with them would be great.  What you bring is purely up to yourselves. \nAlso would be nice to see everyone dressed in either Black & White or Blue & Yellow to support either the Eagles or Collingwood.  Please note\, so there is no confusion\,  I am not trying to force anyone to support a team they wouldn’t normally support\, however it is just a celebration of both these teams successfully getting to the Grand Final and also good sportsmanship.  I hope to see a few of you this coming Saturday.  Please be at the Club around 12PM so we don’t miss out on the start of the game. \nSocial Tennis will still be on from 2PM as usual.
URL:http://wannerootennisclub.com.au/event/west-coast-eagles-vs-collingwood-finals/
LOCATION:Wanneroo Tennis Club\, Elliot Rd\, Wanneroo\, 59 Elliot Rd\, Wanneroo
END:VEVENT
END:VCALENDAR