BEGIN:VCALENDAR
VERSION:2.0
PRODID:-//Wanneroo Tennis Club - ECPv6.15.20//NONSGML v1.0//EN
CALSCALE:GREGORIAN
METHOD:PUBLISH
X-ORIGINAL-URL:http://wannerootennisclub.com.au
X-WR-CALDESC:Events for Wanneroo Tennis Club
REFRESH-INTERVAL;VALUE=DURATION:PT1H
X-Robots-Tag:noindex
X-PUBLISHED-TTL:PT1H
BEGIN:VTIMEZONE
TZID:Australia/Perth
BEGIN:STANDARD
TZOFFSETFROM:+0800
TZOFFSETTO:+0800
TZNAME:AWST
DTSTART:20170101T000000
END:STANDARD
END:VTIMEZONE
BEGIN:VEVENT
DTSTART;TZID=Australia/Perth:20230326T090000
DTEND;TZID=Australia/Perth:20230326T170000
DTSTAMP:20260425T050848
CREATED:20230306T054009Z
LAST-MODIFIED:20230306T054009Z
UID:1306-1679821200-1679850000@wannerootennisclub.com.au
SUMMARY:Round Robin Tournament 2023 - Mens and Ladies Doubles
DESCRIPTION:NOTES AND CONDITIONS OF ENTRY \n  \nAdministration \n\nThis tournament is open to all members of tennis clubs affiliated with Tennis West.\nThe Tournament Chairman and committee shall have the entire control and management of the Tournament.\nThe Tournament Committee Referee will be the authority on any matters under dispute.\n\n  \nEntries \n\nEntries must be made on the official entry form provided below and received by the Secretary before Tuesday\, 21st of March 2023\nOnline entry form: https://forms.gle/o6ytAQoExq9TmooQ7\nManual entry form – click here to download\nEntries (32 PAIRS) maximum.\nFees to accompany entry form to be eligible.\nFees and Entry form can be addressed and posted to:\n\nWanneroo Tennis Club Inc.\, PO Box 430 WANNEROO\, WA 6946 \n(Do not use the clubrooms letterbox) \nOR \nYou can email the Wanneroo Tennis Club on wannerootennis@outlook.com ensuring to attach a copy of the EFT Deposit receipt. \nPlay \n\nThe format will be a seeded ROUND ROBIN Doubles Tournament. All entries will be graded into divisions at the discretion of the Match Committee.\nFormat will be dependent upon entry numbers and will be announced prior to the commencement of play.\nPlaying surface is 8 synthetic grass courts plus 2 hard courts (if required)\nPlay will commence on Sunday\, 26th of March @ 09:00am. Sets will be played on a timed basis with each round lasting 25 minutes with a 5 minute change over.\nCompetitors are requested to report in 30 minutes prior to commencement of play.\nLunch break will be any time after 12:30PM\nPresentations will be made at the conclusion of play.\nIn the event of any dispute\, the Referee’s decision will be final.\nFinals will be played in each division.\n\nDress \n\nColoured garments and footwear must be approved or recognised Tennis attire – NO singlets\, board shorts or thongs accepted.\n\nFood \n\nLunch is available for purchase on arrival\n\nEntry fee includes tea\, coffee\, cakes and a sausage sizzle at the conclusion of the day. Free Wi-Fi available \n\n\nPrizes\n\nWinners & Runners up from each division will receive a cash prize\n\nEntries Close – Tuesday\, 21st of March @ 16:00pm \n\nTournament Committee \n\nMatch Committee:\n\nChairman: Nicky Parker\nSecretary: Caroline Barlow\nReferee: Jeannie Johnson
URL:http://wannerootennisclub.com.au/event/round-robin-tournament-2023-mens-and-ladies-doubles/
LOCATION:Wanneroo Tennis Club\, Elliot Rd\, Wanneroo\, 59 Elliot Rd\, Wanneroo
ATTACH;FMTTYPE=image/jpeg:http://wannerootennisclub.com.au/wp-content/uploads/2023/03/rrt2023.jpg
END:VEVENT
BEGIN:VEVENT
DTSTART;TZID=Australia/Perth:20230326T090000
DTEND;TZID=Australia/Perth:20230326T170000
DTSTAMP:20260425T050848
CREATED:20230203T082644Z
LAST-MODIFIED:20230203T082644Z
UID:1300-1679821200-1679850000@wannerootennisclub.com.au
SUMMARY:Round Robin Tennis Tournament 2023
DESCRIPTION:This tournament is open to all members of tennis clubs affiliated with Tennis West.\nThe Tournament Chairman and committee shall have the entire control and management of the Tournament.\nThe Tournament Committee Referee will be the authority on any matters under dispute.\n\nEntries \n\nEntries must be made on the official entry form provided and received by the Secretary before Tuesday\, 21st of March 2023\nEntries (32 PAIRS) maximum.\nFees to accompany entry form to be eligible.\nFees and Entry form can be addressed and posted to:\n\nWanneroo Tennis Club Inc.\, PO Box 430 WANNEROO\, WA 6946 \n(Do not use the clubrooms letterbox) \nOR \nYou can email the Wanneroo Tennis Club on wannerootennis@outlook.com ensuring to attach a copy of the EFT Deposit receipt. \nPlay \n\nThe format will be a seeded ROUND ROBIN Doubles Tournament. All entries will be graded into divisions at the discretion of the Match Committee.\nFormat will be dependent upon entry numbers and will be announced prior to the commencement of play.\nPlaying surface is 8 synthetic grass courts plus 2 hard courts (if required)\nPlay will commence on Sunday\, 26th of March @ 09:00am. Sets will be played on a timed basis with each round lasting 25 minutes with a 5 minute change over.\nCompetitors are requested to report in 30 minutes prior to commencement of play.\nLunch break will be any time after 12:30PM\nPresentations will be made at the conclusion of play.\nIn the event of any dispute\, the Referee’s decision will be final.\nFinals will be played in each division.\n\nDress \nColoured garments and footwear must be approved or recognised Tennis attire – NO singlets\, board shorts or thongs accepted. \nTournament Committee \nMatch Committee: \nChairman: Nicky Parker       Secretary: Caroline Barlow        Referee: Jeannie Johnson \n  \nPRIZES \nWinners/Runners up from each division will receive a cash priz \nEntry fee includes tea\, coffee\, cakes and a sausage sizzle at the conclusion of the day. Free Wi-Fi available
URL:http://wannerootennisclub.com.au/event/round-robin-tennis-tournament-2023/
LOCATION:Wanneroo Tennis Club\, Elliot Rd\, Wanneroo\, 59 Elliot Rd\, Wanneroo
END:VEVENT
BEGIN:VEVENT
DTSTART;TZID=Australia/Perth:20221028T190000
DTEND;TZID=Australia/Perth:20221028T220000
DTSTAMP:20260425T050848
CREATED:20221019T112548Z
LAST-MODIFIED:20221019T113105Z
UID:1288-1666983600-1666994400@wannerootennisclub.com.au
SUMMARY:Halloween Tennis Competition 2022
DESCRIPTION:Wanneroo Tennis Club would like to invite you to a Halloween Competition on the 28th of October\, which will kick off at 7pm and go till late. \n\nThere will be a prize given to the best original costume or make up – so have fun with it  If you don’t like dressing up\, then come down and just have fun playing a few sets and have something nice to eat or drink!\n\n\nPlease register your interest via Karin/Kent. This will help us organise the sets and make sure there is enough food for everyone.\n\n\nLooking forward to seeing you all!
URL:http://wannerootennisclub.com.au/event/halloween-tennis-competition-2022/
LOCATION:Wanneroo Tennis Club\, Elliot Rd\, Wanneroo\, 59 Elliot Rd\, Wanneroo
ATTACH;FMTTYPE=image/jpeg:http://wannerootennisclub.com.au/wp-content/uploads/2022/10/tennis-ball-with-witch-hat-and-happy-halloween-vector-27175194.jpg
END:VEVENT
BEGIN:VEVENT
DTSTART;VALUE=DATE:20200128
DTEND;VALUE=DATE:20200129
DTSTAMP:20260425T050848
CREATED:20200114T064742Z
LAST-MODIFIED:20200116T092007Z
UID:1170-1580169600-1580255999@wannerootennisclub.com.au
SUMMARY:Open Court Sessions at Wanneroo Tennis Club from Tuesday\, Jan 28\, 2020!
DESCRIPTION:Wanneroo Tennis Club is holding Open Court Sessions on Tuesday evenings starting January 28. check out the photos below to get an idea of what it is and if you’re interested\, you can jump online and join by registering using the following link:  \nhttps://play.tennis.com.au/opencourtsessions/summary/f7372ef7-338f-4ad5-a504-e3da19d11f24 \nYou may use your existing Facebook or Google accounts to log-in or create a new one using the link on the page. \nSee you all at the courts!💪🎾 \nopen court sessions tennis perth
URL:http://wannerootennisclub.com.au/event/open-court-sessions-at-wanneroo-tennis-club-from-tuesday-jan-28-2020/
ATTACH;FMTTYPE=image/jpeg:http://wannerootennisclub.com.au/wp-content/uploads/2020/01/open-court-poster-small.jpg
END:VEVENT
BEGIN:VEVENT
DTSTART;TZID=Australia/Perth:20191130T183000
DTEND;TZID=Australia/Perth:20191130T230000
DTSTAMP:20260425T050848
CREATED:20191120T225539Z
LAST-MODIFIED:20191120T225539Z
UID:1166-1575138600-1575154800@wannerootennisclub.com.au
SUMMARY:Christmas Party 2019
DESCRIPTION:Christmas Party 2019\nVENUE: WANNEROO TENNIS CLUB\nDATE: SAT 30th NOVEMBER\nTIME: 6.30PM TILL LATE\nFOOD: PLEASE BRING A PLATE\n(PLEASE TICK SAVOURY OR SWEET ON THE SHEET IN THE CLUB ROOM)\nMUSIC: SPOTIFY \nWe have got our Christmas Do coming up on Saturday 30th Nov so we would love to see a lot of you there so you can get to know people on a social side as well as tennis. \nPlease see the attached flyer and also please take note on the notice board in the Tennis club room. \nSee you all before then at the club! \nBev\nSocial Secretary
URL:http://wannerootennisclub.com.au/event/christmas-party-2019/
LOCATION:Wanneroo Tennis Club\, Elliot Rd\, Wanneroo\, 59 Elliot Rd\, Wanneroo
ATTACH;FMTTYPE=image/jpeg:http://wannerootennisclub.com.au/wp-content/uploads/2019/11/9CF04F5E-4A13-40A6-A017-389C723BDB8F.jpeg
END:VEVENT
BEGIN:VEVENT
DTSTART;VALUE=DATE:20191020
DTEND;VALUE=DATE:20191021
DTSTAMP:20260425T050848
CREATED:20190910T122823Z
LAST-MODIFIED:20190911T081344Z
UID:1133-1571529600-1571615999@wannerootennisclub.com.au
SUMMARY:Mixed Doubles Tournament 2019
DESCRIPTION:Hi Members \nWell it is nearly that time a year again when we hold our annual Mixed Doubles tournament.  This year we will be holding it on Sunday\, 20th October 2019 and as usual I hope you will all support the Club in some way either by entering a team or helping out on the day in the kitchen or where ever we may need you to be. \nIf you are willing to play on the day I really hope you will take the initiative and find yourself a willing partner to play with and not leave it up to me to try and find one for you.  I think we have all been a part of the Club long enough to be able to walk up to someone and ask them whether they would like to play. \nI have attached the Entry Form link below\, however there will be entry forms at the Club if you are interested.  Please ensure that the form is completed with the details of both entrants and making sure you include payment.  If you are doing this electronically can you please ensure you send me a copy of the EFT payment details as well. \nWe have been having some pretty stunning weather lately so I am hoping that this will continue beyond the day.  As this tournament is open to non-members of your Club\, if you know anybody who plays tennis that would be interested in joining us please feel free to forward this email on to them. \nIf you have any questions in relation to this\, please do not hesitate to let me know. \nCost: $60 per couple or $35 if partner required. \nDownload entry form: http://wannerootennisclub.com.au/wp-content/uploads/2019/09/Mixed-Doubles-Tournament-20-October-2019_new.pdf \nCheers\,\nDebbie Wasson\nWanneroo Tennis Club – Club Captain
URL:http://wannerootennisclub.com.au/event/mixed-doubles-tournament-2019/
LOCATION:Wanneroo Tennis Club\, Elliot Rd\, Wanneroo\, 59 Elliot Rd\, Wanneroo
END:VEVENT
BEGIN:VEVENT
DTSTART;TZID=Australia/Perth:20190713T183000
DTEND;TZID=Australia/Perth:20190713T230000
DTSTAMP:20260425T050848
CREATED:20190705T000431Z
LAST-MODIFIED:20190705T000431Z
UID:1124-1563042600-1563058800@wannerootennisclub.com.au
SUMMARY:WTC Trophy Night
DESCRIPTION:Hi everyone\n As you are aware our club trophy presentation night is on 13th July  in our club rooms. 6.30 pm start.\nOur meal is a variety of salads\, and Hot Food:\nServing to start at 7 pm.\n   Cold foods :-     Mediterranean Pasta salad\n                               Coleslaw\n                               Caesar Salad\n                               Potato salad\n                                Asian rice noodle salad\n      Hot foods:-     Beef in garlic and Mushroom  sauce\n                                Chicken with Satay sauce\,\n Rice\n                                Roast beef\n                                Roast Pork w/crackle\n                                Roast Potatoes\n                                Cauliflower and Broccoli Bake\n                                 Sauces and Condiments\n       To finish:-  Chefs selection of pastries\nAny allergies  or special dietary requirements\, please notify  Shirley thank you .\n        Drinks –   At the regular Tennis Club Bar prices.\nEntertainment :-  is the amazing Casey Skinner\nbe ready to dance.\nAnd of course  trophy presentations.\nCost:- $30pp MEMBERS.   $35.00 pp NON – MEMBERS\nPlease place your name on the list which is on the noticeboard in the club rooms by 6th JULY\n Payments into the Wanneroo Tennis Club account:- BSB 016-338 Account no  430129955  with your name as reference please.\n   A good night for all\, cheers\, WTC Committee
URL:http://wannerootennisclub.com.au/event/wtc-trophy-night/
LOCATION:Wanneroo Tennis Club\, Elliot Rd\, Wanneroo\, 59 Elliot Rd\, Wanneroo
END:VEVENT
BEGIN:VEVENT
DTSTART;VALUE=DATE:20190428
DTEND;VALUE=DATE:20190429
DTSTAMP:20260425T050848
CREATED:20190312T001557Z
LAST-MODIFIED:20190312T004201Z
UID:1098-1556409600-1556495999@wannerootennisclub.com.au
SUMMARY:Men’s and Ladies’ Doubles Tournament
DESCRIPTION:Hi Members\, \nWell it is coming up to that time of year again.  This year our Annual Men’s and Ladies Doubles tournament will be held on Sunday\, 28th April 2019.  Please find the link to the entry form below; however I will print some out and leave them at the Tennis Club. \nhttp://wannerootennisclub.com.au/wp-content/uploads/2019/03/mens-and-ladies-doubles-tournament-28th-april-2019.pdf \nThis tournament is one of the two tournaments held each year which helps to keep our membership fees down so I hope you can support the Club by entering.  For those who have never entered\, it is always a great day of tennis. \nIf you are interested in entering\, please complete the entry form making sure you include both yourself and your partners details.  Payment should be included with your entry form\, however if you choose to pay via EFT\, include a copy of your EFT receipt.  Please note that entry forms and payments need to be received no later than Wednesday\, 24th April 2019 at 10PM. \nPlease note that entry fee is $60 per couple OR if you require us to find you a partner\, the cost is $35. \nIf you know anyone else who may be interested in playing in this tournament outside of our club members\, please feel free in forward this entry form on to them.  If you have any further questions regarding this\, please do not hesitate to let me know. \n  \nCheers\,\n\nDebbie Downes \nWanneroo Tennis Club – Club Captain
URL:http://wannerootennisclub.com.au/event/mens-and-ladies-doubles-tournament/
LOCATION:Wanneroo Tennis Club\, Elliot Rd\, Wanneroo\, 59 Elliot Rd\, Wanneroo
ATTACH;FMTTYPE=image/jpeg:http://wannerootennisclub.com.au/wp-content/uploads/2018/12/20130504-123317-8006817-wtc-2013-club-champions-003.jpg
END:VEVENT
BEGIN:VEVENT
DTSTART;TZID=Australia/Perth:20181215T143000
DTEND;TZID=Australia/Perth:20181215T220000
DTSTAMP:20260425T050848
CREATED:20181105T044408Z
LAST-MODIFIED:20181105T044408Z
UID:768-1544884200-1544911200@wannerootennisclub.com.au
SUMMARY:Christmas 2018 Round Robin Tournament
DESCRIPTION:For Christmas\, we are going to be doing a round-robin tennis tournament with a “Fancy Dress Christmas Theme”. We will have a prize for the best-dressed male and female\, and potentially a prize for male and female with highest points! We will be having a sausage sizzle after the tennis so we would love to see you all stay\, have a few drinks and food\, and just enjoy each other’s company. \nThis tournament is open to both members and non-members and limited to a max of 40 people Entry fees are $5 for members and $10 for non-menbers. \nRSVP by Dec 8\, 2018!
URL:http://wannerootennisclub.com.au/event/christmas-2018-round-robin-tournament/
LOCATION:Wanneroo Tennis Club\, Elliot Rd\, Wanneroo\, 59 Elliot Rd\, Wanneroo
ATTACH;FMTTYPE=image/jpeg:http://wannerootennisclub.com.au/wp-content/uploads/2018/11/santasservingclinic-724x426.jpg
END:VEVENT
BEGIN:VEVENT
DTSTART;TZID=Australia/Perth:20181124T183000
DTEND;TZID=Australia/Perth:20181124T233000
DTSTAMP:20260425T050848
CREATED:20181107T232016Z
LAST-MODIFIED:20181107T232017Z
UID:771-1543084200-1543102200@wannerootennisclub.com.au
SUMMARY:WTC Christmas Party 2018
DESCRIPTION:Cost: No charge. Drinks are at WTC bar prices.  \n                        \nFood: please bring along either a main course or sweet to share\, (could you please indicate if you are bringing a main course or sweets\, on the list on the noticeboard in the clubrooms) The same as for trophy night.  \n                        \nEntertainment:  Amy Shanti Heron.  \n                        \nOur Christmas Party will be held in the Clubrooms\,  on 24th November 2018\, 6.30-7pm drinks/nibbles/ Meal \, entertainment from 8-11.30. \nWe hope it will be another happy evening  for everyone\, at WTC.  \nNote: There is a communal charity (for Vinnies Wanneroo branch)  gift collection in the clubrooms\, there are 2 tubs: one tub is for gifts\, any age/adult  PLEASE LEAVE GIFTS UNWRAPPED. The second tub is for non-perishable items. we have until the Christmas party  to collect. Then Vinnies pickup\, they sort the donations into Christmas hampers and  distribute to  those families less fortunate than ourselves\, in time for Christmas.  Wanneroo Vinnies is trying to help 75 families in the immediate area.
URL:http://wannerootennisclub.com.au/event/wtc-christmas-party-2018/
ATTACH;FMTTYPE=image/jpeg:http://wannerootennisclub.com.au/wp-content/uploads/2018/11/8325294E-70AB-42B4-B4F4-5F7768A1F7A1.jpeg
END:VEVENT
BEGIN:VEVENT
DTSTART;VALUE=DATE:20181014
DTEND;VALUE=DATE:20181015
DTSTAMP:20260425T050848
CREATED:20180917T035115Z
LAST-MODIFIED:20180918T093256Z
UID:463-1539475200-1539561599@wannerootennisclub.com.au
SUMMARY:Mixed Doubles Round Robin Tournament
DESCRIPTION:Sunday\, 14th October 2018 \nEntries must be made on the official entry form provided and received by the Secretary before 5pm\, Friday 5th October 2018 \n$30.00 PER PLAYER \n\nThis tournament is open to all members of tennis clubs affiliated with Tennis West\nThe Tournament Chairman and committee shall have the entire control and management of the Tournament\nThe Tournament Committee Referee will be the authority on any matters under dispute\nThe format will be a seeded ROUND ROBIN Doubles Tournament for mixed doubles\nPlaying surface is 8 synthetic grass courts plus 2 hard courts (if required)\nPlay will commence at 9.00 AM on Sunday 14th October 2018. Sets will be played\nCompetitors are requested to report in 30 minutes prior to commencement of\nLunch break from 12:30 PM onwards\nFormat will be dependent upon entry numbers and will be announced prior to commencement of start of play\nPresentations will be made at the conclusion of play\nIn the event of any dispute\, the Referee’s decision will be final\n\nForm can be downloaded here.
URL:http://wannerootennisclub.com.au/event/mixed-doubles-round-robin-tournament/
LOCATION:Wanneroo Tennis Club\, Elliot Rd\, Wanneroo\, 59 Elliot Rd\, Wanneroo
END:VEVENT
BEGIN:VEVENT
DTSTART;TZID=Australia/Perth:20180929T120000
DTEND;TZID=Australia/Perth:20180929T170000
DTSTAMP:20260425T050848
CREATED:20180925T054350Z
LAST-MODIFIED:20180925T054556Z
UID:732-1538222400-1538240400@wannerootennisclub.com.au
SUMMARY:West Coast Eagles vs Collingwood Finals
DESCRIPTION:Hi Members \nAs the West Coast Eagles managed to “rather convincingly” win their semi-final match against Melbourne last Saturday\, we have decided to have a little social get together this coming Saturday\, 29th September to watch the Grand Final.  For those of you who are interested in joining us we thought if everyone brought a plate “of food” with them would be great.  What you bring is purely up to yourselves. \nAlso would be nice to see everyone dressed in either Black & White or Blue & Yellow to support either the Eagles or Collingwood.  Please note\, so there is no confusion\,  I am not trying to force anyone to support a team they wouldn’t normally support\, however it is just a celebration of both these teams successfully getting to the Grand Final and also good sportsmanship.  I hope to see a few of you this coming Saturday.  Please be at the Club around 12PM so we don’t miss out on the start of the game. \nSocial Tennis will still be on from 2PM as usual.
URL:http://wannerootennisclub.com.au/event/west-coast-eagles-vs-collingwood-finals/
LOCATION:Wanneroo Tennis Club\, Elliot Rd\, Wanneroo\, 59 Elliot Rd\, Wanneroo
END:VEVENT
END:VCALENDAR